BEGIN:VCALENDAR
VERSION:2.0
PRODID:icalendar-ruby
CALSCALE:GREGORIAN
BEGIN:VEVENT
DTSTAMP:20260423T235658Z
UID:448d5c40-f2ab-4a50-b2ff-256ffb97a20e
DTSTART;VALUE=DATE:20210903
DESCRIPTION:Property ID# 515436\, Locatoin: Harcourts via Zoom/Telephone Bi
 dding\, Time: 4:30PM
SUMMARY:Auction for 
END:VEVENT
END:VCALENDAR
