BEGIN:VCALENDAR
VERSION:2.0
PRODID:icalendar-ruby
CALSCALE:GREGORIAN
BEGIN:VEVENT
DTSTAMP:20260423T235734Z
UID:d1c34793-b73e-473c-9175-835d5f08e660
DTSTART;VALUE=DATE:20210930
DESCRIPTION:Property ID# 516598\, Locatoin: Harcourts Paraparaumu from 12no
 on\, Time: 12:00PM
SUMMARY:Auction for 
END:VEVENT
END:VCALENDAR
