BEGIN:VCALENDAR
VERSION:2.0
PRODID:icalendar-ruby
CALSCALE:GREGORIAN
BEGIN:VEVENT
DTSTAMP:20260423T205745Z
UID:7404e81d-9e0b-4b15-9a28-621b7c897caa
DTSTART;VALUE=DATE:20211014
DESCRIPTION:Property ID# 517218\, Locatoin: Harcourts Paraparaumu\, Time: 1
 2:00PM
SUMMARY:Auction for 
END:VEVENT
END:VCALENDAR
