BEGIN:VCALENDAR
VERSION:2.0
PRODID:icalendar-ruby
CALSCALE:GREGORIAN
BEGIN:VEVENT
DTSTAMP:20260424T000106Z
UID:7d820768-eb50-4f43-be00-db1b9c30a485
DTSTART;VALUE=DATE:20211202
DESCRIPTION:Property ID# 521365\, Locatoin: Harcourts Paraparaumu from 12no
 on (unless sold prior)\, Time: 12:00PM
SUMMARY:Auction for 
END:VEVENT
END:VCALENDAR
