BEGIN:VCALENDAR
VERSION:2.0
PRODID:icalendar-ruby
CALSCALE:GREGORIAN
BEGIN:VEVENT
DTSTAMP:20260420T151721Z
UID:57c24592-abc6-44ec-abca-25e46ad2fd5f
DTSTART;VALUE=DATE:20250402
DESCRIPTION:Property ID# 589354\, Locatoin: Harcourts Paremata at 1pm \, Ti
 me: 1:00PM
SUMMARY:Auction for 
END:VEVENT
END:VCALENDAR
