BEGIN:VCALENDAR
VERSION:2.0
PRODID:icalendar-ruby
CALSCALE:GREGORIAN
BEGIN:VEVENT
DTSTAMP:20260422T093118Z
UID:560808c7-7d62-490f-bf46-c0ab934cbbd1
DTSTART;VALUE=DATE:20260430
DESCRIPTION:Property ID# 606199\, Locatoin: Harcourts Papaparaumu @ 12 Midd
 ay\, Time: 12:00PM
SUMMARY:Auction for 7 Ocean Parade\, Pukerua Bay
END:VEVENT
END:VCALENDAR
